BEGIN:VCALENDAR
VERSION:2.0
PRODID:-//FDDC - ECPv6.15.20//NONSGML v1.0//EN
CALSCALE:GREGORIAN
METHOD:PUBLISH
X-WR-CALNAME:FDDC
X-ORIGINAL-URL:https://www.fddc.org
X-WR-CALDESC:Events for FDDC
REFRESH-INTERVAL;VALUE=DURATION:PT1H
X-Robots-Tag:noindex
X-PUBLISHED-TTL:PT1H
BEGIN:VTIMEZONE
TZID:America/New_York
BEGIN:DAYLIGHT
TZOFFSETFROM:-0500
TZOFFSETTO:-0400
TZNAME:EDT
DTSTART:20220313T070000
END:DAYLIGHT
BEGIN:STANDARD
TZOFFSETFROM:-0400
TZOFFSETTO:-0500
TZNAME:EST
DTSTART:20221106T060000
END:STANDARD
BEGIN:DAYLIGHT
TZOFFSETFROM:-0500
TZOFFSETTO:-0400
TZNAME:EDT
DTSTART:20230312T070000
END:DAYLIGHT
BEGIN:STANDARD
TZOFFSETFROM:-0400
TZOFFSETTO:-0500
TZNAME:EST
DTSTART:20231105T060000
END:STANDARD
BEGIN:DAYLIGHT
TZOFFSETFROM:-0500
TZOFFSETTO:-0400
TZNAME:EDT
DTSTART:20240310T070000
END:DAYLIGHT
BEGIN:STANDARD
TZOFFSETFROM:-0400
TZOFFSETTO:-0500
TZNAME:EST
DTSTART:20241103T060000
END:STANDARD
END:VTIMEZONE
BEGIN:VEVENT
DTSTART;TZID=America/New_York:20230314T093000
DTEND;TZID=America/New_York:20230314T140000
DTSTAMP:20260419T094935
CREATED:20220902T161110Z
LAST-MODIFIED:20230228T120416Z
UID:10000075-1678786200-1678802400@www.fddc.org
SUMMARY:2023 Developmental Disabilities Awareness Day
DESCRIPTION:TIME:                9:30 am – 2:00 pm \nLOCATION:       FL Capitol * 2nd FL Rotunda \n400 S Monroe Street * Tallahassee\, FL \n(Virtual activity begins at 8:30 am via Big Marker) \nLink to be received upon registration. \nPURPOSE:          Bring awareness of Developmental Disabilities to Legislators. \nFor information on participating in this meeting call Margaret Hooper at (800) 580-7801. \nPlease Note:  Agenda times are approximate and the group will adjourn at the end of business. \n 
URL:https://www.fddc.org/event/2023-developmental-disabilities-awareness-day/
END:VEVENT
END:VCALENDAR