BEGIN:VCALENDAR
VERSION:2.0
PRODID:-//FDDC - ECPv6.15.20//NONSGML v1.0//EN
CALSCALE:GREGORIAN
METHOD:PUBLISH
X-ORIGINAL-URL:https://www.fddc.org
X-WR-CALDESC:Events for FDDC
REFRESH-INTERVAL;VALUE=DURATION:PT1H
X-Robots-Tag:noindex
X-PUBLISHED-TTL:PT1H
BEGIN:VTIMEZONE
TZID:America/New_York
BEGIN:DAYLIGHT
TZOFFSETFROM:-0500
TZOFFSETTO:-0400
TZNAME:EDT
DTSTART:20230312T070000
END:DAYLIGHT
BEGIN:STANDARD
TZOFFSETFROM:-0400
TZOFFSETTO:-0500
TZNAME:EST
DTSTART:20231105T060000
END:STANDARD
BEGIN:DAYLIGHT
TZOFFSETFROM:-0500
TZOFFSETTO:-0400
TZNAME:EDT
DTSTART:20240310T070000
END:DAYLIGHT
BEGIN:STANDARD
TZOFFSETFROM:-0400
TZOFFSETTO:-0500
TZNAME:EST
DTSTART:20241103T060000
END:STANDARD
BEGIN:DAYLIGHT
TZOFFSETFROM:-0500
TZOFFSETTO:-0400
TZNAME:EDT
DTSTART:20250309T070000
END:DAYLIGHT
BEGIN:STANDARD
TZOFFSETFROM:-0400
TZOFFSETTO:-0500
TZNAME:EST
DTSTART:20251102T060000
END:STANDARD
END:VTIMEZONE
BEGIN:VEVENT
DTSTART;TZID=America/New_York:20240701T170000
DTEND;TZID=America/New_York:20240701T180000
DTSTAMP:20260420T083650
CREATED:20240628T170336Z
LAST-MODIFIED:20240628T170336Z
UID:10000387-1719853200-1719856800@www.fddc.org
SUMMARY:Finance Committee Meeting
DESCRIPTION:TIME:                            5:00 – 6:00 PM \nLOCATION:                 Zoom \nPURPOSE:                  Discuss general business of the council \nFor information on participating in this meeting call Valerie Breen at (800) 580-7801. \nPlease Note:        Agenda times are approximate and the group will adjourn at the end of business. \nZoom Link                               https://fddc.zoom.us/j/85274565241 \nThis Zoom meeting requires a password. To join please contact our Office at (800) 580-7801 or (850) 488-4180.
URL:https://www.fddc.org/event/finance-committee-meeting/
END:VEVENT
BEGIN:VEVENT
DTSTART;TZID=America/New_York:20240702T110000
DTEND;TZID=America/New_York:20240702T120000
DTSTAMP:20260420T083650
CREATED:20240628T200321Z
LAST-MODIFIED:20240628T200321Z
UID:10000388-1719918000-1719921600@www.fddc.org
SUMMARY:Executive Committee Meeting
DESCRIPTION:TIME:                            11:00 AM – 12:00 PM \nLOCATION:                 Zoom \nPURPOSE:                  Personnel Discussions \nFor information on participating in this meeting call Kristen Conlin at (800) 580-7801. \nPlease Note:        Agenda times are approximate and the group will adjourn at the end of business.  \nZoom Link                               https://fddc.zoom.us/j/89780459860 \n This Zoom meeting requires a password. To join please contact our Office at (800) 580-7801 or (850) 488-4180.
URL:https://www.fddc.org/event/executive-committee-meeting-4/
END:VEVENT
BEGIN:VEVENT
DTSTART;TZID=America/New_York:20240711T123000
DTEND;TZID=America/New_York:20240711T133000
DTSTAMP:20260420T083650
CREATED:20240709T125224Z
LAST-MODIFIED:20240709T125243Z
UID:10000359-1720701000-1720704600@www.fddc.org
SUMMARY:Executive Director/Chair/Vice-Chair Weekly Meeting- CANCELLED
DESCRIPTION:CANCELLED \nTIME:                         12:30 PM – 1:30 PM \nLOCATION:               Zoom \nPURPOSE:                Weekly update to discuss the general business of the Council. \nFor information on participating in this meeting call Valerie Breen at (800) 580-7801. \nPlease Note:       Agenda times are approximate and the group will adjourn at the end of business. \nZoom Link                           https://fddc.zoom.us/j/86893758490  \nThis Zoom meeting requires a password. To join please contact our Office at (800) 580-7801 or (850) 488-4180.
URL:https://www.fddc.org/event/executive-director-chair-vice-chair-weekly-meeting-16/
END:VEVENT
BEGIN:VEVENT
DTSTART;TZID=America/New_York:20240716T150000
DTEND;TZID=America/New_York:20240716T170000
DTSTAMP:20260420T083650
CREATED:20240408T181454Z
LAST-MODIFIED:20240408T181454Z
UID:10000345-1721142000-1721149200@www.fddc.org
SUMMARY:Stakeholder Managed Care Task Force Meeting
DESCRIPTION:TIME:                                           3:00 p.m.-5:00 p.m. ET \nLOCATION:                          ZOOM \nPURPOSE:                Review/updates on Managed Care pilot  \nFor information on participating in this meeting call Valerie Breen at (800) 580-7801. \nPlease Note:    Agenda times are approximate and the group will adjourn at the end of business. \nZoom Link                                    https://fddc.zoom.us/j/84737383478 \nThis Zoom meeting requires a password. To join please contact our Office at (800) 580-7801 or (850) 488-4180.
URL:https://www.fddc.org/event/stakeholder-managed-care-task-force-meeting-2/
END:VEVENT
BEGIN:VEVENT
DTSTART;TZID=America/New_York:20240718T120000
DTEND;TZID=America/New_York:20240718T133000
DTSTAMP:20260420T083650
CREATED:20240618T175539Z
LAST-MODIFIED:20240618T181236Z
UID:10000385-1721304000-1721309400@www.fddc.org
SUMMARY:Access to Services Steering Committee & Task Force Meeting
DESCRIPTION:TIME:                                           12:00 PM – 1:30 PM EST  \nLOCATION:                          Microsoft Teams \nPURPOSE:                            Access to Service Through Knowledge Project/Task Force Meeting  \nFor information on participating in this meeting call Jamie Mayersohn at (800) 580-7801. \nPlease Note:            Agenda times are approximate and the group will adjourn at the end of business. \nTeams:    Microsoft Teams meeting \n                Meeting ID:  226 413 529 471 \nThis Microsoft Teams meeting requires a password. To join please contact our Office at (800) 580-7801 or (850) 488-4180.
URL:https://www.fddc.org/event/access-to-services-steering-committee-task-force-meeting/
END:VEVENT
BEGIN:VEVENT
DTSTART;TZID=America/New_York:20240718T123000
DTEND;TZID=America/New_York:20240718T133000
DTSTAMP:20260420T083650
CREATED:20240709T125300Z
LAST-MODIFIED:20240709T125319Z
UID:10000360-1721305800-1721309400@www.fddc.org
SUMMARY:Executive Director/Chair/Vice-Chair Weekly Meeting- CANCELLED
DESCRIPTION:CANCELLED \nTIME:                         12:30 PM – 1:30 PM \nLOCATION:               Zoom \nPURPOSE:                Weekly update to discuss the general business of the Council. \nFor information on participating in this meeting call Valerie Breen at (800) 580-7801. \nPlease Note:       Agenda times are approximate and the group will adjourn at the end of business. \nZoom Link                           https://fddc.zoom.us/j/86893758490  \nThis Zoom meeting requires a password. To join please contact our Office at (800) 580-7801 or (850) 488-4180.
URL:https://www.fddc.org/event/executive-director-chair-vice-chair-weekly-meeting-17/
END:VEVENT
BEGIN:VEVENT
DTSTART;TZID=America/New_York:20240724T150000
DTEND;TZID=America/New_York:20240724T163000
DTSTAMP:20260420T083650
CREATED:20240328T144726Z
LAST-MODIFIED:20240328T144726Z
UID:10000344-1721833200-1721838600@www.fddc.org
SUMMARY:Self-Advocacy and Leadership Task Force Meeting
DESCRIPTION:TIME:                         3:00-4:30 PM \nLOCATION:               Zoom \nPURPOSE:                Continue discussion on Self-Advocacy Leadership \nFor information on participating in this meeting call Kristin Vandagriff at (800) 580-7801. \nPlease Note:       Agenda times are approximate and the group will adjourn at the end of business. \nZoom Link                             https://fddc.zoom.us/j/85950802166 \nThis Zoom meeting requires a password. To join please contact our Office at (800) 580-7801 or (850) 488-4180.
URL:https://www.fddc.org/event/self-advocacy-and-leadership-task-force-meeting-7/
END:VEVENT
BEGIN:VEVENT
DTSTART;TZID=America/New_York:20240725T123000
DTEND;TZID=America/New_York:20240725T133000
DTSTAMP:20260420T083650
CREATED:20240709T125335Z
LAST-MODIFIED:20240709T125354Z
UID:10000361-1721910600-1721914200@www.fddc.org
SUMMARY:Executive Director/Chair/Vice-Chair Weekly Meeting- CANCELLED
DESCRIPTION:CANCELLED \nTIME:                         12:30 PM – 1:30 PM \nLOCATION:               Zoom \nPURPOSE:                Weekly update to discuss the general business of the Council. \nFor information on participating in this meeting call Valerie Breen at (800) 580-7801. \nPlease Note:       Agenda times are approximate and the group will adjourn at the end of business. \nZoom Link                           https://fddc.zoom.us/j/86893758490  \nThis Zoom meeting requires a password. To join please contact our Office at (800) 580-7801 or (850) 488-4180.
URL:https://www.fddc.org/event/executive-director-chair-vice-chair-weekly-meeting-18/
END:VEVENT
BEGIN:VEVENT
DTSTART;TZID=America/New_York:20240726T160000
DTEND;TZID=America/New_York:20240726T173000
DTSTAMP:20260420T083650
CREATED:20240708T124036Z
LAST-MODIFIED:20240708T124036Z
UID:10000389-1722009600-1722015000@www.fddc.org
SUMMARY:Executive Committee Meeting
DESCRIPTION:TIME:                         4:00 – 5:30 PM     \nLOCATION:               Zoom \nPURPOSE:                 Personnel discussions (closed to staff) \nFor information on participating in this meeting call Valerie Breen at (800) 580-7801. \nPlease Note:       Agenda times are approximate and the group will adjourn at the end of business. \nZoom Link                             https://fddc.zoom.us/j/85217201470 \nThis Zoom meeting requires a password. To join please contact our Office at (800) 580-7801 or (850) 488-4180.
URL:https://www.fddc.org/event/executive-committee-meeting-5/
END:VEVENT
END:VCALENDAR