BEGIN:VCALENDAR
VERSION:2.0
PRODID:-//FDDC - ECPv6.15.20//NONSGML v1.0//EN
CALSCALE:GREGORIAN
METHOD:PUBLISH
X-WR-CALNAME:FDDC
X-ORIGINAL-URL:https://www.fddc.org
X-WR-CALDESC:Events for FDDC
REFRESH-INTERVAL;VALUE=DURATION:PT1H
X-Robots-Tag:noindex
X-PUBLISHED-TTL:PT1H
BEGIN:VTIMEZONE
TZID:America/New_York
BEGIN:DAYLIGHT
TZOFFSETFROM:-0500
TZOFFSETTO:-0400
TZNAME:EDT
DTSTART:20230312T070000
END:DAYLIGHT
BEGIN:STANDARD
TZOFFSETFROM:-0400
TZOFFSETTO:-0500
TZNAME:EST
DTSTART:20231105T060000
END:STANDARD
BEGIN:DAYLIGHT
TZOFFSETFROM:-0500
TZOFFSETTO:-0400
TZNAME:EDT
DTSTART:20240310T070000
END:DAYLIGHT
BEGIN:STANDARD
TZOFFSETFROM:-0400
TZOFFSETTO:-0500
TZNAME:EST
DTSTART:20241103T060000
END:STANDARD
BEGIN:DAYLIGHT
TZOFFSETFROM:-0500
TZOFFSETTO:-0400
TZNAME:EDT
DTSTART:20250309T070000
END:DAYLIGHT
BEGIN:STANDARD
TZOFFSETFROM:-0400
TZOFFSETTO:-0500
TZNAME:EST
DTSTART:20251102T060000
END:STANDARD
END:VTIMEZONE
BEGIN:VEVENT
DTSTART;TZID=America/New_York:20240801T123000
DTEND;TZID=America/New_York:20240801T133000
DTSTAMP:20260420T122141
CREATED:20240606T181725Z
LAST-MODIFIED:20240606T181725Z
UID:10000362-1722515400-1722519000@www.fddc.org
SUMMARY:Executive Director/Chair/Vice-Chair Weekly Meeting
DESCRIPTION:TIME:                         12:30 PM – 1:30 PM \nLOCATION:               Zoom \nPURPOSE:                Weekly update to discuss the general business of the Council. \nFor information on participating in this meeting call Valerie Breen at (800) 580-7801. \nPlease Note:       Agenda times are approximate and the group will adjourn at the end of business. \nZoom Link                           https://fddc.zoom.us/j/86893758490  \nThis Zoom meeting requires a password. To join please contact our Office at (800) 580-7801 or (850) 488-4180.
URL:https://www.fddc.org/event/executive-director-chair-vice-chair-weekly-meeting-8-2-2/2024-08-01/
END:VEVENT
BEGIN:VEVENT
DTSTART;TZID=America/New_York:20240808T123000
DTEND;TZID=America/New_York:20240808T133000
DTSTAMP:20260420T122141
CREATED:20240606T181725Z
LAST-MODIFIED:20240606T181725Z
UID:10000363-1723120200-1723123800@www.fddc.org
SUMMARY:Executive Director/Chair/Vice-Chair Weekly Meeting
DESCRIPTION:TIME:                         12:30 PM – 1:30 PM \nLOCATION:               Zoom \nPURPOSE:                Weekly update to discuss the general business of the Council. \nFor information on participating in this meeting call Valerie Breen at (800) 580-7801. \nPlease Note:       Agenda times are approximate and the group will adjourn at the end of business. \nZoom Link                           https://fddc.zoom.us/j/86893758490  \nThis Zoom meeting requires a password. To join please contact our Office at (800) 580-7801 or (850) 488-4180.
URL:https://www.fddc.org/event/executive-director-chair-vice-chair-weekly-meeting-8-2-2/2024-08-08/
END:VEVENT
BEGIN:VEVENT
DTSTART;TZID=America/New_York:20240809T143000
DTEND;TZID=America/New_York:20240809T160000
DTSTAMP:20260420T122141
CREATED:20240729T171800Z
LAST-MODIFIED:20240729T171800Z
UID:10000392-1723213800-1723219200@www.fddc.org
SUMMARY:The AGEDD and Strategic Alliance Task Force Meeting
DESCRIPTION:TIME:                     2:30-4:00 PM EST \nLOCATION:      Zoom \nPURPOSE:        Review the progress of the three projects under the Aging Caregiver/Strategic Alliance Task Force. \nFor information on participating in this meeting\, call Jan Pearce at (850) 488-4180. \nPlease Note: Agenda times are approximate\, and the group will adjourn at the end of business. \nZoom Link:                       https://fddc.zoom.us/j/81609300219 \nThis Zoom meeting requires a password. To join\, please contact our Office at (800) 580-7801 or (850) 488-4180.
URL:https://www.fddc.org/event/the-agedd-and-strategic-alliance-task-force-meeting/
END:VEVENT
BEGIN:VEVENT
DTSTART;TZID=America/New_York:20240813T150000
DTEND;TZID=America/New_York:20240813T163000
DTSTAMP:20260420T122141
CREATED:20240618T193737Z
LAST-MODIFIED:20240618T193737Z
UID:10000386-1723561200-1723566600@www.fddc.org
SUMMARY:Home- and Community-Based Services Task Force Meeting
DESCRIPTION:TIME:                               3:00 to 4:30 pm EDT \nLOCATION:                          Zoom \nPURPOSE:    The purpose of the meeting is to review the key activities falling within the FDDC State Plan Goal 2. \nFor information on participating in this meeting call Sue Kabot at (800) 580-7801. \nPlease Note:       Agenda times are approximate and the group will adjourn at the end of business. \nZoom Link:        https://fddc.zoom.us/j/86357970827 \nThis Zoom meeting requires a password. To join please contact our Office at (800) 580-7801 or (850) 488-4180.
URL:https://www.fddc.org/event/home-and-community-based-services-task-force-meeting-3/
END:VEVENT
BEGIN:VEVENT
DTSTART;TZID=America/New_York:20240815T123000
DTEND;TZID=America/New_York:20240815T133000
DTSTAMP:20260420T122141
CREATED:20240606T181725Z
LAST-MODIFIED:20240606T181725Z
UID:10000364-1723725000-1723728600@www.fddc.org
SUMMARY:Executive Director/Chair/Vice-Chair Weekly Meeting
DESCRIPTION:TIME:                         12:30 PM – 1:30 PM \nLOCATION:               Zoom \nPURPOSE:                Weekly update to discuss the general business of the Council. \nFor information on participating in this meeting call Valerie Breen at (800) 580-7801. \nPlease Note:       Agenda times are approximate and the group will adjourn at the end of business. \nZoom Link                           https://fddc.zoom.us/j/86893758490  \nThis Zoom meeting requires a password. To join please contact our Office at (800) 580-7801 or (850) 488-4180.
URL:https://www.fddc.org/event/executive-director-chair-vice-chair-weekly-meeting-8-2-2/2024-08-15/
END:VEVENT
BEGIN:VEVENT
DTSTART;TZID=America/New_York:20240815T123000
DTEND;TZID=America/New_York:20240815T140000
DTSTAMP:20260420T122141
CREATED:20240327T174622Z
LAST-MODIFIED:20240806T181630Z
UID:10000342-1723725000-1723730400@www.fddc.org
SUMMARY:Access to Services Task Force Meeting- CANCELLED
DESCRIPTION:CANCELLED \nTIME:                      12:30pm – 2:00pm EST \nLOCATION:            Microsoft Teams Meeting ID: 226 396 458 159 \nPURPOSE:       Discussion of the Access to Services Through Knowledge project \nFor information on participating in this meeting call Jamie Mayersohn at (800) 580-7801. \nPlease Note:   Agenda times are approximate\, and the group will adjourn at the end of business. \nMicrosoft Teams Link                       Meeting ID: 226 396 458 159 \nThis Zoom meeting requires a password. To join please contact our Office at (800) 580-7801 or (850) 488-4180.
URL:https://www.fddc.org/event/access-to-services-task-force-meeting-5/
END:VEVENT
BEGIN:VEVENT
DTSTART;TZID=America/New_York:20240820T153000
DTEND;TZID=America/New_York:20240820T163000
DTSTAMP:20260420T122141
CREATED:20240729T161550Z
LAST-MODIFIED:20240729T171711Z
UID:10000391-1724167800-1724171400@www.fddc.org
SUMMARY:Communities of Practice Miami Dade County
DESCRIPTION:TIME:                     3:30-4:30 PM \nLOCATION:      Zoom \nPURPOSE:        Review the progress of the AGEDD project and to specifically discuss the Miami Dade Community of Practice \nFor information on participating in this meeting\, call Jan Pearce at (850) 488-4180. \nPlease Note: Agenda times are approximate\, and the group will adjourn at the end of business.  \nZoom Link :  https://us06web.zoom.us/j/87870279431?pwd=7Cbgm9vn6iiF2BIaFUvwEZ8bzy0Ztf.1 \nThis Zoom meeting requires a password. To join\, please contact our Office at (800) 580-7801 or (850) 488-4180.
URL:https://www.fddc.org/event/communities-of-practice-miami-dade-county/
END:VEVENT
BEGIN:VEVENT
DTSTART;TZID=America/New_York:20240822T123000
DTEND;TZID=America/New_York:20240822T133000
DTSTAMP:20260420T122141
CREATED:20240822T160621Z
LAST-MODIFIED:20240822T160647Z
UID:10000365-1724329800-1724333400@www.fddc.org
SUMMARY:Executive Director/Chair/Vice-Chair Weekly Meeting- CANCELLED
DESCRIPTION:CANCELLED \nTIME:                         12:30 PM – 1:30 PM \nLOCATION:               Zoom \nPURPOSE:                Weekly update to discuss the general business of the Council. \nFor information on participating in this meeting call Valerie Breen at (800) 580-7801. \nPlease Note:       Agenda times are approximate and the group will adjourn at the end of business. \nZoom Link                           https://fddc.zoom.us/j/86893758490  \nThis Zoom meeting requires a password. To join please contact our Office at (800) 580-7801 or (850) 488-4180.
URL:https://www.fddc.org/event/executive-director-chair-vice-chair-weekly-meeting-20/
END:VEVENT
BEGIN:VEVENT
DTSTART;TZID=America/New_York:20240829T123000
DTEND;TZID=America/New_York:20240829T133000
DTSTAMP:20260420T122141
CREATED:20240606T181725Z
LAST-MODIFIED:20240606T181725Z
UID:10000366-1724934600-1724938200@www.fddc.org
SUMMARY:Executive Director/Chair/Vice-Chair Weekly Meeting
DESCRIPTION:TIME:                         12:30 PM – 1:30 PM \nLOCATION:               Zoom \nPURPOSE:                Weekly update to discuss the general business of the Council. \nFor information on participating in this meeting call Valerie Breen at (800) 580-7801. \nPlease Note:       Agenda times are approximate and the group will adjourn at the end of business. \nZoom Link                           https://fddc.zoom.us/j/86893758490  \nThis Zoom meeting requires a password. To join please contact our Office at (800) 580-7801 or (850) 488-4180.
URL:https://www.fddc.org/event/executive-director-chair-vice-chair-weekly-meeting-8-2-2/2024-08-29/
END:VEVENT
END:VCALENDAR