BEGIN:VCALENDAR
VERSION:2.0
PRODID:-//FDDC - ECPv6.15.20//NONSGML v1.0//EN
CALSCALE:GREGORIAN
METHOD:PUBLISH
X-WR-CALNAME:FDDC
X-ORIGINAL-URL:https://www.fddc.org
X-WR-CALDESC:Events for FDDC
REFRESH-INTERVAL;VALUE=DURATION:PT1H
X-Robots-Tag:noindex
X-PUBLISHED-TTL:PT1H
BEGIN:VTIMEZONE
TZID:America/New_York
BEGIN:DAYLIGHT
TZOFFSETFROM:-0500
TZOFFSETTO:-0400
TZNAME:EDT
DTSTART:20230312T070000
END:DAYLIGHT
BEGIN:STANDARD
TZOFFSETFROM:-0400
TZOFFSETTO:-0500
TZNAME:EST
DTSTART:20231105T060000
END:STANDARD
BEGIN:DAYLIGHT
TZOFFSETFROM:-0500
TZOFFSETTO:-0400
TZNAME:EDT
DTSTART:20240310T070000
END:DAYLIGHT
BEGIN:STANDARD
TZOFFSETFROM:-0400
TZOFFSETTO:-0500
TZNAME:EST
DTSTART:20241103T060000
END:STANDARD
BEGIN:DAYLIGHT
TZOFFSETFROM:-0500
TZOFFSETTO:-0400
TZNAME:EDT
DTSTART:20250309T070000
END:DAYLIGHT
BEGIN:STANDARD
TZOFFSETFROM:-0400
TZOFFSETTO:-0500
TZNAME:EST
DTSTART:20251102T060000
END:STANDARD
END:VTIMEZONE
BEGIN:VEVENT
DTSTART;TZID=America/New_York:20240905T123000
DTEND;TZID=America/New_York:20240905T133000
DTSTAMP:20260420T160059
CREATED:20240606T181725Z
LAST-MODIFIED:20240606T181725Z
UID:10000367-1725539400-1725543000@www.fddc.org
SUMMARY:Executive Director/Chair/Vice-Chair Weekly Meeting
DESCRIPTION:TIME:                         12:30 PM – 1:30 PM \nLOCATION:               Zoom \nPURPOSE:                Weekly update to discuss the general business of the Council. \nFor information on participating in this meeting call Valerie Breen at (800) 580-7801. \nPlease Note:       Agenda times are approximate and the group will adjourn at the end of business. \nZoom Link                           https://fddc.zoom.us/j/86893758490  \nThis Zoom meeting requires a password. To join please contact our Office at (800) 580-7801 or (850) 488-4180.
URL:https://www.fddc.org/event/executive-director-chair-vice-chair-weekly-meeting-8-2-2/2024-09-05/
END:VEVENT
BEGIN:VEVENT
DTSTART;TZID=America/New_York:20240912T123000
DTEND;TZID=America/New_York:20240912T133000
DTSTAMP:20260420T160059
CREATED:20240606T181725Z
LAST-MODIFIED:20240606T181725Z
UID:10000368-1726144200-1726147800@www.fddc.org
SUMMARY:Executive Director/Chair/Vice-Chair Weekly Meeting
DESCRIPTION:TIME:                         12:30 PM – 1:30 PM \nLOCATION:               Zoom \nPURPOSE:                Weekly update to discuss the general business of the Council. \nFor information on participating in this meeting call Valerie Breen at (800) 580-7801. \nPlease Note:       Agenda times are approximate and the group will adjourn at the end of business. \nZoom Link                           https://fddc.zoom.us/j/86893758490  \nThis Zoom meeting requires a password. To join please contact our Office at (800) 580-7801 or (850) 488-4180.
URL:https://www.fddc.org/event/executive-director-chair-vice-chair-weekly-meeting-8-2-2/2024-09-12/
END:VEVENT
BEGIN:VEVENT
DTSTART;TZID=America/New_York:20240917T133000
DTEND;TZID=America/New_York:20240917T143000
DTSTAMP:20260420T160059
CREATED:20240910T192741Z
LAST-MODIFIED:20240910T192741Z
UID:10000396-1726579800-1726583400@www.fddc.org
SUMMARY:Researching Provider Solutions Workgroup
DESCRIPTION:TIME:                   1:30 pm-2:30 pm \nLOCATION:  Zoom   Meeting ID 161 626 8864 \nPURPOSE:    Workgroup meeting to discuss progress report of the Researching Provider Solutions project \nFor information on participating in this meeting call Susan Kabot at (800) 580-7801. \nPlease Note:       Agenda times are approximate and the group will adjourn at the end of business. \nZoom Link https://mathematicaorg.zoomgov.com/j/1616268864?pwd=nsWZoXiBAbDyIp2Q9oIMv6WnaSBdd4.1 \nThis Zoom meeting requires a password. To join please contact our Office at (800) 580-7801 or (850) 488-4180.
URL:https://www.fddc.org/event/researching-provider-solutions-workgroup/
END:VEVENT
BEGIN:VEVENT
DTSTART;TZID=America/New_York:20240918T183000
DTEND;TZID=America/New_York:20240918T193000
DTSTAMP:20260420T160059
CREATED:20231127T133548Z
LAST-MODIFIED:20240808T142549Z
UID:10000281-1726684200-1726687800@www.fddc.org
SUMMARY:September Pre-Council Meeting
DESCRIPTION:TIME:                  6:30 – 7:30 PM \nLOCATION:        Florida Hotel and Conference Center \n                                1500 Sand Lake Road \n                                Orlando\, FL 32809 \nPURPOSE:          Discussions on how to be successful participant in a FDDC Meeting\,  \nFor information on participating in this meeting call Valerie Breen at (800) 580-7801. \nPlease Note:       Agenda times are approximate and the group will adjourn at the end of business.
URL:https://www.fddc.org/event/september-council-meeting-5/
CATEGORIES:Council Meetings
END:VEVENT
BEGIN:VEVENT
DTSTART;TZID=America/New_York:20240919T090000
DTEND;TZID=America/New_York:20240919T170000
DTSTAMP:20260420T160059
CREATED:20240808T142420Z
LAST-MODIFIED:20240808T142421Z
UID:10000393-1726736400-1726765200@www.fddc.org
SUMMARY:September Committee and Council Meeting
DESCRIPTION:TIME:                  9:00 AM – 5:00 PM \nLOCATION:        Florida Hotel and Conference Center \n                                1500 Sand Lake Road \n                                Orlando\, FL 32809 \nPURPOSE:          Discuss general business of the Council \nFor information on participating in this meeting call Valerie Breen at (800) 580-7801. \nPlease Note:       Agenda times are approximate and the group will adjourn at the end of business.
URL:https://www.fddc.org/event/september-committee-and-council-meeting/
CATEGORIES:Council Meetings
END:VEVENT
BEGIN:VEVENT
DTSTART;TZID=America/New_York:20240919T123000
DTEND;TZID=America/New_York:20240919T133000
DTSTAMP:20260420T160059
CREATED:20240808T142659Z
LAST-MODIFIED:20240808T142712Z
UID:10000369-1726749000-1726752600@www.fddc.org
SUMMARY:Executive Director/Chair/Vice-Chair Weekly Meeting- CANCELLED
DESCRIPTION:CANCELLED \nTIME:                         12:30 PM – 1:30 PM \nLOCATION:               Zoom \nPURPOSE:                Weekly update to discuss the general business of the Council. \nFor information on participating in this meeting call Valerie Breen at (800) 580-7801. \nPlease Note:       Agenda times are approximate and the group will adjourn at the end of business. \nZoom Link                           https://fddc.zoom.us/j/86893758490  \nThis Zoom meeting requires a password. To join please contact our Office at (800) 580-7801 or (850) 488-4180.
URL:https://www.fddc.org/event/executive-director-chair-vice-chair-weekly-meeting-19/
END:VEVENT
BEGIN:VEVENT
DTSTART;TZID=America/New_York:20240920T090000
DTEND;TZID=America/New_York:20240920T130000
DTSTAMP:20260420T160059
CREATED:20240808T142508Z
LAST-MODIFIED:20240808T142508Z
UID:10000394-1726822800-1726837200@www.fddc.org
SUMMARY:September Council Meeting
DESCRIPTION:TIME:                  9:00 AM – 1:00 PM \nLOCATION:        Florida Hotel and Conference Center \n                                1500 Sand Lake Road \n                                Orlando\, FL 32809 \nPURPOSE:          Discuss general business of the Council \nFor information on participating in this meeting call Valerie Breen at (800) 580-7801. \nPlease Note:       Agenda times are approximate and the group will adjourn at the end of business.
URL:https://www.fddc.org/event/september-council-meeting-6/
CATEGORIES:Council Meetings
END:VEVENT
BEGIN:VEVENT
DTSTART;TZID=America/New_York:20240926T123000
DTEND;TZID=America/New_York:20240926T133000
DTSTAMP:20260420T160059
CREATED:20240924T105131Z
LAST-MODIFIED:20240924T105149Z
UID:10000370-1727353800-1727357400@www.fddc.org
SUMMARY:Executive Director/Chair/Vice-Chair Weekly Meeting- CANCELLED
DESCRIPTION:CANCELLED \nTIME:                         12:30 PM – 1:30 PM \nLOCATION:               Zoom \nPURPOSE:                Weekly update to discuss the general business of the Council. \nFor information on participating in this meeting call Valerie Breen at (800) 580-7801. \nPlease Note:       Agenda times are approximate and the group will adjourn at the end of business. \nZoom Link                           https://fddc.zoom.us/j/86893758490  \nThis Zoom meeting requires a password. To join please contact our Office at (800) 580-7801 or (850) 488-4180.
URL:https://www.fddc.org/event/executive-director-chair-vice-chair-weekly-meeting-21/
END:VEVENT
END:VCALENDAR